BEGIN:VCALENDAR
VERSION:2.0
PRODID:-//eventon.com NONSGML v1.0//EN
CALSCALE:GREGORIAN
METHOD:PUBLISH
BEGIN:VEVENT
UID:69eb219534231
DTSTAMP:20260424T075357Z
DTSTART:20221006
DTEND:20221007
LOCATION:Across Adelaide
SUMMARY:ADL Fashion Week
DESCRIPTION:ADL Fashion Week celebrates the fabric of fashion in the city\,
   from boutique favourites and emerging designers\,  to couture labels and 
 global brands. Through a curated program of unique events\,  exciting pop-u
 ps\,  offers\,  stylish in-store events and Adelaide’s biggest shopping e
 vent\,  you’re invited to experience\,  shop and discover ADL Fashion[..]
 \nhttps://www.rundlestreet.com.au/events/adl-fashion-week/
URL:https://www.rundlestreet.com.au/events/adl-fashion-week/
END:VEVENT
END:VCALENDAR