BEGIN:VCALENDAR
VERSION:2.0
PRODID:-//eventon.com NONSGML v1.0//EN
CALSCALE:GREGORIAN
METHOD:PUBLISH
BEGIN:VEVENT
UID:69e5e4cd0aff9
DTSTAMP:20260420T083317Z
DTSTART:20210219T063000Z
DTEND:20210219T132900Z
LOCATION:Adelaide East End 241-249 Rundle Street East
SUMMARY:East End Unleashed
DESCRIPTION:East End Unleashed is back in 2021\,  with outdoor dining on Ru
 ndle Street every weekend during Fringe so you can soak up the festival
  vibes! To make the most of those balmy summer nights\,  outdoor dining wil
 l be extended until midnight for you to enjoy dinner and drinks alfresco-s
 tyle in the heart of the action.[..]\nhttps://www.rundlestreet.com.au/event
 s/east-end-unleashed-2/
URL:https://www.rundlestreet.com.au/events/east-end-unleashed-2/
END:VEVENT
END:VCALENDAR