BEGIN:VCALENDAR
VERSION:2.0
PRODID:-//eventon.com NONSGML v1.0//EN
CALSCALE:GREGORIAN
METHOD:PUBLISH
BEGIN:VEVENT
UID:69e9fa4361dbb
DTSTAMP:20260423T105355Z
DTSTART:20200306T170000Z
DTEND:20200306T235000Z
LOCATION:Adelaide East End 241-249 Rundle Street East
SUMMARY:East End Unleashed
DESCRIPTION:Rundle Street will be like one big street party Thursday to Sun
 day during the Fringe. With an array of unique eateries and bars\,  and wit
 h longer days and warm nights\,  it’s the perfect time to choose your own
  culinary adventure while soaking up all the vibes of the summer festivals!
 [..]\nhttps://www.rundlestreet.com.au/events/east-end-unleashed/var/ri-12.l
 -L1
URL:https://www.rundlestreet.com.au/events/east-end-unleashed/var/ri-12.l-L1
END:VEVENT
END:VCALENDAR