BEGIN:VCALENDAR
VERSION:2.0
PRODID:-//eventon.com NONSGML v1.0//EN
CALSCALE:GREGORIAN
METHOD:PUBLISH
BEGIN:VEVENT
UID:69e6db0e9019d
DTSTAMP:20260421T020358Z
DTSTART:20190418T193000Z
DTEND:20190418T233000Z
LOCATION:The Crown &amp; Anchor 196 Grenfell St\,  Adelaide
SUMMARY:Pagan - The Evil Eye Tour
DESCRIPTION:In the wake of their wildly successful tour of the UK and Europ
 e and after commanding the masses to stand up and take notice at this yearâ
 €™s UNIFY Gathering\,  Pagan are thrilled to announce The Evil Eye tour. Th
 e Evil Eye tour will see Pagan vehemently spit out selections from[..]\nhtt
 ps://www.rundlestreet.com.au/events/pagan-the-evil-eye-tour/
URL:https://www.rundlestreet.com.au/events/pagan-the-evil-eye-tour/
END:VEVENT
END:VCALENDAR