BEGIN:VCALENDAR
VERSION:2.0
PRODID:-//eventon.com NONSGML v1.0//EN
CALSCALE:GREGORIAN
METHOD:PUBLISH
BEGIN:VEVENT
UID:69e8c0a8a869d
DTSTAMP:20260422T123552Z
DTSTART:20181106T120000Z
DTEND:20181106T150000Z
LOCATION:Stag Public House 299 Rundle Street
SUMMARY:Melbourne Cup
DESCRIPTION:Come join the team at The Stag Public House and celebrate this 
 classic Aussie race in classic Aussie style; a few fancy bubbles and a coup
 le of beers in between. This is the perfect occasion to soak up the sun on 
 the balcony\,  enjoy a glass or two Tassies own[..]\nhttps://www.rundlestre
 et.com.au/events/melbourne-cup-2/
URL:https://www.rundlestreet.com.au/events/melbourne-cup-2/
END:VEVENT
END:VCALENDAR