BEGIN:VCALENDAR
VERSION:2.0
PRODID:-//eventon.com NONSGML v1.0//EN
CALSCALE:GREGORIAN
METHOD:PUBLISH
BEGIN:VEVENT
UID:69e5ba8edcf5e
DTSTAMP:20260420T053302Z
DTSTART:20180801T083000Z
DTEND:20180907T210000Z
LOCATION:The Howling Owl 10 Vaughan Place
SUMMARY:New York\,  New York | SALA
DESCRIPTION:Photography Kelly Champion\,  David Evans Photographs of New Yo
 rk by professional photographers Kelly Champion and David Evans from over 1
 00km of street walking over a 10 day period in May 2018. 1 Aug &#8211; 7 Se
 p Mon-Wed 8:30am-9pm Thu 8:30am-11pm Fri 8:30-12am Sat 12pm-12am Sun c
 losed\nhttps://www.rundlestreet.com.au/events/new-york-new-york-sala/
URL:https://www.rundlestreet.com.au/events/new-york-new-york-sala/
END:VEVENT
END:VCALENDAR