BEGIN:VCALENDAR
VERSION:2.0
PRODID:-//eventon.com NONSGML v1.0//EN
CALSCALE:GREGORIAN
METHOD:PUBLISH
BEGIN:VEVENT
UID:69e740e51ee7c
DTSTAMP:20260421T091829Z
DTSTART:20180707T073000Z
DTEND:20180714T160000Z
LOCATION:Exchange Specialty Coffee 1-3\,  12-18 Vardon Ave
SUMMARY:Exchange Turns 5!
DESCRIPTION:EXCHANGE SPECIALTY COFFEE IS TURNING 5! ~ From this Saturday th
 ey’ll be kicking off a week of birthday celebrations to mark their 5th an
 niversary (Mon 9/7) and to say thanks to all of you\,  without whom they wo
 uldn’t be here. ~ Get ready for our THROWBACK menu which will run[..]\nht
 tps://www.rundlestreet.com.au/events/exchange-turns-5/
URL:https://www.rundlestreet.com.au/events/exchange-turns-5/
END:VEVENT
END:VCALENDAR