BEGIN:VCALENDAR
VERSION:2.0
PRODID:-//eventon.com NONSGML v1.0//EN
CALSCALE:GREGORIAN
METHOD:PUBLISH
BEGIN:VEVENT
UID:69ebac3e2db1e
DTSTAMP:20260424T174534Z
DTSTART:20180418T160000Z
DTEND:20180420T190000Z
LOCATION:Adelaide East End 241-249 Rundle Street East
SUMMARY:Aperitivo in the East End
DESCRIPTION:If that dream Amalfi holiday is not on the horizon\,  don’t s
 tress. Your favourite East End bars are putting an Italian spin on knock-of
 f drinks. Choose your own wine adventure with Mothervine’s extensive wine
  list. Bonus: the first glass comes with free olives or nuts! Relive the jo
 ys of summer[..]\nhttps://www.rundlestreet.com.au/events/aperitivo-in-the-e
 ast-end/
URL:https://www.rundlestreet.com.au/events/aperitivo-in-the-east-end/
END:VEVENT
END:VCALENDAR