BEGIN:VCALENDAR
VERSION:2.0
PRODID:-//eventon.com NONSGML v1.0//EN
CALSCALE:GREGORIAN
METHOD:PUBLISH
BEGIN:VEVENT
UID:69e5a4c1b764c
DTSTAMP:20260420T040001Z
DTSTART:20180801T160000Z
DTEND:20180831T000000Z
LOCATION:BRKLYN Bar 260A Rundle Street
SUMMARY:This is Mental | SALA
DESCRIPTION:Mixed Media\,  Painting James Smith Well known for his use of v
 ibrant colours the artist isn&#8217;t afraid to leave something thought pro
 voking for the people of Adelaide. 1-31 Aug Tue-Fri 4pm-12am Sat 6pm-12am
  Opening Event 04 Aug \,  08:30 pm-12:00 am\nhttp://www.rundlestreet.com.a
 u/events/this-is-mental-sala/
URL:http://www.rundlestreet.com.au/events/this-is-mental-sala/
END:VEVENT
END:VCALENDAR